BEGIN:VCALENDAR
VERSION:2.0
PRODID:-//eventon.com NONSGML v1.0//EN
CALSCALE:GREGORIAN
METHOD:PUBLISH
BEGIN:VEVENT
UID:69e9ed798cc95
DTSTAMP:20260423T095921Z
DTSTART:20260620
DTEND:20260621
LOCATION:Foyer Saint Joseph à Lingolsheim 1\,  rue de l'Ecole - 67380 LINGOLSHEIM
SUMMARY:Passages de grades Grand Est à Lingolsheim
DESCRIPTION:Horaires à préciser Informations complémentaires : Me Paul P
 atrick Harmant &#8211; 06 71 18 55 65\nhttps://www.aikido-molsheim.fr/event
 s/passages-de-grades-grand-est-a-lingolsheim/
URL:https://www.aikido-molsheim.fr/events/passages-de-grades-grand-est-a-lingolsheim/
END:VEVENT
END:VCALENDAR