BEGIN:VCALENDAR
VERSION:2.0
PRODID:-//eventon.com NONSGML v1.0//EN
CALSCALE:GREGORIAN
METHOD:PUBLISH
BEGIN:VEVENT
UID:69eccba1ac79d
DTSTAMP:20260425T141145Z
DTSTART:20260516T130000Z
DTEND:20260516T160000Z
LOCATION:CREPS de Strasbourg 4 allée du Sommerhof 67200 Strasbourg
SUMMARY:CID : Stage exceptionnel Bruno ZANOTTI au CREPS de STRASBOURG
DESCRIPTION:avec Bruno ZANOTTI 7ène Dan Shihan Prix : 20€ Tarif unique p
 our le weekend quelque soit la participation (1/2 journée ou stage complet
 ) Samedi de 15h à 18h Dimanche de 9h à 12h Au Creps Strasbourg &#8211; 4 
 Allée du Sommerhof 67200 Strasbourg Inscriptions sur : Stage exceptionnel 
 Bruno Zanotti\nhttps://www.aikido-molsheim.fr/events/cid-stage-exceptionnel
 -bruno-zanotti-au-creps-de-strasbourg/
URL:https://www.aikido-molsheim.fr/events/cid-stage-exceptionnel-bruno-zanotti-au-creps-de-strasbourg/
END:VEVENT
END:VCALENDAR